BEGIN:VCALENDAR
VERSION:2.0
PRODID:-//Academia de Finantare - ECPv6.15.20//NONSGML v1.0//EN
CALSCALE:GREGORIAN
METHOD:PUBLISH
X-WR-CALNAME:Academia de Finantare
X-ORIGINAL-URL:https://academiadefinantare.ro
X-WR-CALDESC:Evenimente pentru Academia de Finantare
REFRESH-INTERVAL;VALUE=DURATION:PT1H
X-Robots-Tag:noindex
X-PUBLISHED-TTL:PT1H
BEGIN:VTIMEZONE
TZID:UTC
BEGIN:STANDARD
TZOFFSETFROM:+0000
TZOFFSETTO:+0000
TZNAME:UTC
DTSTART:20230101T000000
END:STANDARD
END:VTIMEZONE
BEGIN:VEVENT
DTSTART;TZID=UTC:20240926T173000
DTEND;TZID=UTC:20240926T183000
DTSTAMP:20260423T210923
CREATED:20240920T062020Z
LAST-MODIFIED:20240923T082627Z
UID:2851-1727371800-1727375400@academiadefinantare.ro
SUMMARY:Start Up Nation 2024: Ultimele noutăți
DESCRIPTION:Ești gata să îți începi propria afacere sau ești consultant în accesarea fondurilor europene și vrei să îți gestionezi proiectele mai eficient? Seminarul online „Start Up Nation 2024: Ultimele noutăți” este conceput special pentru tine! Fie că ești un antreprenor la început de drum sau un profesionist care oferă consultanță în accesarea fondurilor nerambursabile\, acest eveniment îți va oferi toate informațiile necesare pentru a profita la maximum de oportunitățile de finanțare oferite de Start Up Nation 2024. \nCe vei învăța la seminarul Start Up Nation 2024: Ultimele noutăți?\n1. Etapele înscrierii la programul de finanțare\nVom discuta pas cu pas fiecare etapă a procesului de înscriere\, de la înscrierea la cursurile online de antreprenoriat\, până la depunerea planului de afaceri. Pentru consultanți\, aceste informații sunt esențiale pentru a eficientiza gestionarea propriilor proiecte și a oferi servicii de înaltă calitate clienților. \n2. Participarea la cursurile de antreprenoriat\nPentru antreprenorii care doresc să își lanseze afacerea\, cursurile de antreprenoriat oferă pregătirea necesară pentru a naviga cu succes provocările specifice. Vom discuta despre ce cursuri sunt disponibile\, cum să te înscrii și ce abilități vei dobândi pentru a-ți conduce afacerea spre succes. Consultanții vor învăța cum să îndrume antreprenorii pe parcursul acestui proces formativ. \n3. Noile criterii de evaluare și punctaj\nVom analiza noile criterii de evaluare ale programului și cum influențează acestea punctajul final al proiectului. Fie că îți pregătești propria aplicație sau gestionezi proiectele clienților\, vei învăța cum să optimizezi planurile de afaceri pentru a obține cel mai bun scor și a crește șansele de succes. \n4. Noile categorii de cheltuieli eligibile\nDescoperă noile cheltuieli eligibile pentru finanțare și învață cum să îți structurezi bugetul pentru a maximiza fondurile disponibile. Vom discuta despre cum aceste modificări pot ajuta antreprenorii să își dezvolte afacerea și consultanții să îndrume beneficiarii în utilizarea eficientă a resurselor. \nDetalii despre seminarul Start Up Nation 2024: Ultimele noutăți\n\nData: Joi\, la ora 17:30\nPlatforma: Online\, prin Go to Meeting\nAcces: Gratuit\, cu înregistrare prealabilă\n\nSeminarul „Start Up Nation 2024: Ultimele noutăți” este locul unde vei afla tot ce ai nevoie pentru a-ți începe afacerea sau pentru a gestiona mai simplu și eficient proiectele tale de finanțare. Beneficiază de expertiza specialiștilor și obține răspunsuri la întrebările tale pentru a-ți maximiza șansele de a obține finanțare.
URL:https://academiadefinantare.ro/eveniment/start-up-nation-2024-ultimele-noutati/
CATEGORIES:Seminarii online
ATTACH;FMTTYPE=image/png:https://academiadefinantare.ro/wp-content/uploads/2024/09/eveniment-online-Start-Up-Nation-2024-Ultimele-noutati.png
END:VEVENT
BEGIN:VEVENT
DTSTART;TZID=UTC:20240627T140000
DTEND;TZID=UTC:20250627T140000
DTSTAMP:20260423T210923
CREATED:20240920T063613Z
LAST-MODIFIED:20250626T041625Z
UID:2856-1719496800-1751032800@academiadefinantare.ro
SUMMARY:Finanțarea proiectelor agricole
DESCRIPTION:Dorești să accesezi fonduri nerambursabile pentru proiectele tale agricole și să înveți cum să-ți întocmești singur documentația necesară? Sau ești consultant și vrei să te perfecționezi în gestionarea proiectelor de finanțare agricolă? Seminarul live „Finanțarea Proiectelor Agricole” este conceput pentru fermieri\, antreprenori din domeniul agricol și consultanți care doresc să fie la curent cu cele mai importante programe de finanțare și să învețe cum să își pregătească documentația într-un mod corect și eficient. \nCe vei învăța la seminarul Finanțarea Proiectelor Agricole?\n1. Oportunități de finanțare pentru tineri fermieri și ferme mici\nExplorează principalele programe de finanțare destinate tinerilor fermieri și fermelor mici. Află care sunt criteriile de eligibilitate\, ce beneficii oferă fiecare program și cum poți alege cea mai potrivită sursă de finanțare pentru nevoile tale sau ale clienților tăi. \n2. Stabilirea dimensiunii exploatației agricole\nVom discuta despre cum să stabilești corect dimensiunea exploatației agricole\, un factor esențial pentru a te încadra în categoriile eligibile ale programelor de finanțare. Vei învăța metode de calcul și vei primi sfaturi despre cum să folosești aceste informații pentru a maximiza șansele de succes ale proiectului tău. \n3. Verificarea criteriilor de eligibilitate\nEligibilitatea este cheia succesului în accesarea fondurilor. Vom analiza criteriile specifice fiecărui program de finanțare agricolă și vom oferi îndrumări clare despre cum să îți verifici eligibilitatea înainte de a depune cererea de finanțare\, reducând riscul de respingere a proiectului. \n4. Întocmirea cererii de finanțare\, a bugetului investiției și a devizelor pe obiect\nÎți vom arăta pas cu pas cum să redactezi corect o cerere de finanțare\, cum să structurezi un buget al investiției care să corespundă cerințelor programului și cum să întocmești devizele pe obiect. Vei primi exemple practice și sfaturi despre documentația necesară\, astfel încât să poți gestiona cu încredere întregul proces. \nDetalii despre seminarul online Finanțarea Proiectelor Agricole:\n\nData: Vineri\, 27 septembrie\, la ora 14:00\nLocația: Seminar live\, accesibil online prin platforma dedicată\nAcces: Gratuit\, cu înregistrare prealabilă\n\nAcest seminar este special conceput pentru a sprijini atât consultanții\, cât și persoanele care doresc să își pregătească singure documentația necesară pentru accesarea fondurilor nerambursabile în agricultură. Participarea la acest eveniment te va ajuta să înțelegi toate etapele procesului și să îți optimizezi șansele de a obține finanțarea dorită.
URL:https://academiadefinantare.ro/eveniment/finantarea-proiectelor-agricole/
CATEGORIES:Seminarii online
ATTACH;FMTTYPE=image/png:https://academiadefinantare.ro/wp-content/uploads/2024/09/eveniment-online-Finantarea-proiectelor-agricole.png
END:VEVENT
END:VCALENDAR